BEGIN:VCALENDAR
VERSION:2.0
PRODID:-//Truly Farma - ECPv6.15.20//NONSGML v1.0//EN
CALSCALE:GREGORIAN
METHOD:PUBLISH
X-WR-CALNAME:Truly Farma
X-ORIGINAL-URL:https://trulyfarma.com
X-WR-CALDESC:Events for Truly Farma
REFRESH-INTERVAL;VALUE=DURATION:PT1H
X-Robots-Tag:noindex
X-PUBLISHED-TTL:PT1H
BEGIN:VTIMEZONE
TZID:UTC
BEGIN:STANDARD
TZOFFSETFROM:+0000
TZOFFSETTO:+0000
TZNAME:UTC
DTSTART:20250101T000000
END:STANDARD
END:VTIMEZONE
BEGIN:VEVENT
DTSTART;TZID=UTC:20260214T080000
DTEND;TZID=UTC:20260214T120000
DTSTAMP:20260424T155816
CREATED:20250903T150431Z
LAST-MODIFIED:20260112T001849Z
UID:10000024-1771056000-1771070400@trulyfarma.com
SUMMARY:Gilbert Farmers Market
DESCRIPTION:2626 E Pecos Road\nChandler\, AZ 85225
URL:https://trulyfarma.com/event/gilbert-farmers-market/2026-02-14/
ATTACH;FMTTYPE=image/jpeg:https://trulyfarma.com/wp-content/uploads/2025/09/image0-10.jpeg
END:VEVENT
BEGIN:VEVENT
DTSTART;TZID=UTC:20260228T080000
DTEND;TZID=UTC:20260228T120000
DTSTAMP:20260424T155816
CREATED:20250903T150431Z
LAST-MODIFIED:20260112T001849Z
UID:10000025-1772265600-1772280000@trulyfarma.com
SUMMARY:Gilbert Farmers Market
DESCRIPTION:2626 E Pecos Road\nChandler\, AZ 85225
URL:https://trulyfarma.com/event/gilbert-farmers-market/2026-02-28/
ATTACH;FMTTYPE=image/jpeg:https://trulyfarma.com/wp-content/uploads/2025/09/image0-10.jpeg
END:VEVENT
BEGIN:VEVENT
DTSTART;TZID=UTC:20260314T080000
DTEND;TZID=UTC:20260314T120000
DTSTAMP:20260424T155816
CREATED:20250903T150431Z
LAST-MODIFIED:20260112T001849Z
UID:10000027-1773475200-1773489600@trulyfarma.com
SUMMARY:Gilbert Farmers Market
DESCRIPTION:2626 E Pecos Road\nChandler\, AZ 85225
URL:https://trulyfarma.com/event/gilbert-farmers-market/2026-03-14/
ATTACH;FMTTYPE=image/jpeg:https://trulyfarma.com/wp-content/uploads/2025/09/image0-10.jpeg
END:VEVENT
BEGIN:VEVENT
DTSTART;TZID=UTC:20260404T080000
DTEND;TZID=UTC:20260404T120000
DTSTAMP:20260424T155816
CREATED:20260403T011146Z
LAST-MODIFIED:20260403T011147Z
UID:10000026-1775289600-1775304000@trulyfarma.com
SUMMARY:Gilbert Farmers Market
DESCRIPTION:2626 E Pecos Road\nChandler\, AZ 85225
URL:https://trulyfarma.com/event/gilbert-farmers-market-2/
ATTACH;FMTTYPE=image/jpeg:https://trulyfarma.com/wp-content/uploads/2025/09/image0-10.jpeg
END:VEVENT
END:VCALENDAR